BEGIN:VCALENDAR
VERSION:2.0
PRODID:-//Writing - ECPv6.15.20//NONSGML v1.0//EN
CALSCALE:GREGORIAN
METHOD:PUBLISH
X-ORIGINAL-URL:https://writing.utoronto.ca
X-WR-CALDESC:Events for Writing
REFRESH-INTERVAL;VALUE=DURATION:PT1H
X-Robots-Tag:noindex
X-PUBLISHED-TTL:PT1H
BEGIN:VTIMEZONE
TZID:America/Toronto
BEGIN:DAYLIGHT
TZOFFSETFROM:-0500
TZOFFSETTO:-0400
TZNAME:EDT
DTSTART:20160313T070000
END:DAYLIGHT
BEGIN:STANDARD
TZOFFSETFROM:-0400
TZOFFSETTO:-0500
TZNAME:EST
DTSTART:20161106T060000
END:STANDARD
BEGIN:DAYLIGHT
TZOFFSETFROM:-0500
TZOFFSETTO:-0400
TZNAME:EDT
DTSTART:20170312T070000
END:DAYLIGHT
BEGIN:STANDARD
TZOFFSETFROM:-0400
TZOFFSETTO:-0500
TZNAME:EST
DTSTART:20171105T060000
END:STANDARD
BEGIN:DAYLIGHT
TZOFFSETFROM:-0500
TZOFFSETTO:-0400
TZNAME:EDT
DTSTART:20180311T070000
END:DAYLIGHT
BEGIN:STANDARD
TZOFFSETFROM:-0400
TZOFFSETTO:-0500
TZNAME:EST
DTSTART:20181104T060000
END:STANDARD
END:VTIMEZONE
BEGIN:VEVENT
DTSTART;TZID=America/Toronto:20170114T093000
DTEND;TZID=America/Toronto:20170114T130000
DTSTAMP:20260421T203212
CREATED:20170104T233322Z
LAST-MODIFIED:20170206T183926Z
UID:384-1484386200-1484398800@writing.utoronto.ca
SUMMARY:Writing Plus Workshops: Essay Writing from Start to Finish
DESCRIPTION:Location: Woodsworth College\, Room 120 \n9:30 to 10:30 am: Understanding the Assignment – Making sense of essay topics – getting on the right track from the start \n10:45 to 11:45 am: Finding Scholarly Sources – Strategies for finding and identifying the most useful research sources  \n12 to 1 pm: Developing your Thesis – How to write clear\, focused\, forceful thesis statements (and how not to!) \nThe St. George Campus College Writing Centres\, in collaboration with University of Toronto Libraries\, the Career Centre\, the Academic Success Centre\, and the Arts and Science Students’ Union (ASSU)\, are offering this campus-wide series of academic skills workshops to the University’s entire student body. All workshops are free and there is no need to pre-register. Come for one\, or come for all! \nSee the full schedule of workshops.
URL:https://writing.utoronto.ca/event/writing-plus-workshops-essay-writing-from-start-to-finish/
LOCATION:Woodsworth College\, Room 120\, 119 St. George Street\, Toronto\, ON\, M5S1A9\, Canada
END:VEVENT
BEGIN:VEVENT
DTSTART;TZID=America/Toronto:20170118T140000
DTEND;TZID=America/Toronto:20170118T160000
DTSTAMP:20260421T203212
CREATED:20170104T235922Z
LAST-MODIFIED:20170104T235931Z
UID:394-1484748000-1484755200@writing.utoronto.ca
SUMMARY:Writing Plus Workshops: Admissions Letters and Personal Statements
DESCRIPTION:Location: Cumberland House\, 33 St. George St.\, Room 102 \nApplying to Medicine\, Law\, or some other professional or graduate program? Learn to present your strengths to advantage in this 2-hour hands-on workshop. \nRegister online. \nThe St. George Campus College Writing Centres\, in collaboration with University of Toronto Libraries\, the Career Centre\, the Academic Success Centre\, and the Arts and Science Students’ Union (ASSU)\, are offering this campus-wide series of academic skills workshops to the University’s entire student body. All workshops are free and there is no need to pre-register. Come for one\, or come for all! \nSee the full schedule of workshops.
URL:https://writing.utoronto.ca/event/writing-plus-workshops-admissions-letters-and-personal-statements/
END:VEVENT
BEGIN:VEVENT
DTSTART;TZID=America/Toronto:20170121T093000
DTEND;TZID=America/Toronto:20170121T130000
DTSTAMP:20260421T203212
CREATED:20170104T235800Z
LAST-MODIFIED:20170104T235800Z
UID:392-1484991000-1485003600@writing.utoronto.ca
SUMMARY:Writing Plus Workshops: Essay Writing from Start to Finish
DESCRIPTION:Location: Woodsworth College\, Room 120 \n9:30 to 10:30 am: Organizing your Essay – Building coherent\, connected arguments using reasoning and evidence \n10:45 to 11:45 am: Using Sources – Using summary\, quotation\, and paraphrase correctly and effectively \n12 to 1 pm: Revising your Essay – Improve your editing and proofreading skills \nThe St. George Campus College Writing Centres\, in collaboration with University of Toronto Libraries\, the Career Centre\, the Academic Success Centre\, and the Arts and Science Students’ Union (ASSU)\, are offering this campus-wide series of academic skills workshops to the University’s entire student body. All workshops are free and there is no need to pre-register. Come for one\, or come for all! \nSee the full schedule of workshops.
URL:https://writing.utoronto.ca/event/writing-plus-workshops-essay-writing-from-start-to-finish-2/
END:VEVENT
END:VCALENDAR