BEGIN:VCALENDAR
VERSION:2.0
PRODID:-//Writing - ECPv6.15.20//NONSGML v1.0//EN
CALSCALE:GREGORIAN
METHOD:PUBLISH
X-ORIGINAL-URL:https://writing.utoronto.ca
X-WR-CALDESC:Events for Writing
REFRESH-INTERVAL;VALUE=DURATION:PT1H
X-Robots-Tag:noindex
X-PUBLISHED-TTL:PT1H
BEGIN:VTIMEZONE
TZID:America/Toronto
BEGIN:DAYLIGHT
TZOFFSETFROM:-0500
TZOFFSETTO:-0400
TZNAME:EDT
DTSTART:20180311T070000
END:DAYLIGHT
BEGIN:STANDARD
TZOFFSETFROM:-0400
TZOFFSETTO:-0500
TZNAME:EST
DTSTART:20181104T060000
END:STANDARD
BEGIN:DAYLIGHT
TZOFFSETFROM:-0500
TZOFFSETTO:-0400
TZNAME:EDT
DTSTART:20190310T070000
END:DAYLIGHT
BEGIN:STANDARD
TZOFFSETFROM:-0400
TZOFFSETTO:-0500
TZNAME:EST
DTSTART:20191103T060000
END:STANDARD
BEGIN:DAYLIGHT
TZOFFSETFROM:-0500
TZOFFSETTO:-0400
TZNAME:EDT
DTSTART:20200308T070000
END:DAYLIGHT
BEGIN:STANDARD
TZOFFSETFROM:-0400
TZOFFSETTO:-0500
TZNAME:EST
DTSTART:20201101T060000
END:STANDARD
END:VTIMEZONE
BEGIN:VEVENT
DTSTART;TZID=America/Toronto:20190111T120000
DTEND;TZID=America/Toronto:20190111T133000
DTSTAMP:20260422T123046
CREATED:20180819T015616Z
LAST-MODIFIED:20180820T200358Z
UID:1111-1547208000-1547213400@writing.utoronto.ca
SUMMARY:Writing Plus Workshops: Admissions Letters and Personal Statements
DESCRIPTION:Location: Career Centre Seminar Room\, Koffler Student Services Centre \nApplying to Medicine\, Law\, or some other professional or graduate program? Learn to present your strengths to advantage in this 2-hour hands-on workshop \nRegister online from Aug. 28. \nThe St. George Campus College Writing Centres\, in collaboration with University of Toronto Libraries\, the Career Centre\, English Language Learning\, and the Academic Success Centre\, are offering this campus-wide series of academic skills workshops to the University’s entire student body. All workshops are free and there is no need to pre-register. Come for one\, or come for all! \nSee the full schedule of workshops.
URL:https://writing.utoronto.ca/event/writing-plus-workshops-admissions-letters-and-personal-statements-10/
LOCATION:Koffler Student Services Centre\, Student Success Centre Seminar Room\, 214 College Street\, Toronto\, ON\, M5T 2Z9\, Canada
END:VEVENT
BEGIN:VEVENT
DTSTART;TZID=America/Toronto:20190112T093000
DTEND;TZID=America/Toronto:20190112T130000
DTSTAMP:20260422T123046
CREATED:20180819T003721Z
LAST-MODIFIED:20180819T003721Z
UID:1099-1547285400-1547298000@writing.utoronto.ca
SUMMARY:Writing Plus Workshops: Essay Writing from Start to Finish
DESCRIPTION:Location: Ontario Institute for Studies in Education\, Room 5150 \n9:30 to 10:30 am: Understanding the Assignment – Making sense of essay topics – getting on the right track from the start\n\n	10:45 to 11:45 am: Finding Scholarly Sources – Strategies for finding and identifying the most useful research sources \n\n	12 to 1 pm: Developing your Thesis – How to write clear\, focused\, forceful thesis statements (and how not to!) \nThe St. George Campus College Writing Centres\, in collaboration with University of Toronto Libraries\, the Career Centre\, English Language Learning\, and the Academic Success Centre\, are offering this campus-wide series of academic skills workshops to the University’s entire student body. All workshops are free and there is no need to pre-register. Come for one\, or come for all! \nSee the full schedule of workshops.
URL:https://writing.utoronto.ca/event/writing-plus-workshops-essay-writing-from-start-to-finish-9/
LOCATION:Ontario Institute for Studies in Education\, Room 5150\, 252 Bloor Street West\, Toronto\, ON\, M5S 1V6\, Canada
END:VEVENT
BEGIN:VEVENT
DTSTART;TZID=America/Toronto:20190119T093000
DTEND;TZID=America/Toronto:20190119T130000
DTSTAMP:20260422T123046
CREATED:20180819T004151Z
LAST-MODIFIED:20180819T004254Z
UID:1101-1547890200-1547902800@writing.utoronto.ca
SUMMARY:Writing Plus Workshops: Essay Writing from Start to Finish
DESCRIPTION:Location: Ontario Institute for Studies in Education\, Room 5150 \n9:30 to 10:30 am: Organizing your Essay – Building coherent\, connected arguments using reasoning and evidence\n\n	10:45 to 11:45 am: Using Sources – Using summary\, quotation\, and paraphrase correctly and effectively\n\n	12 to 1 pm: Revising your Essay – Improve your editing and proofreading skills \nThe St. George Campus College Writing Centres\, in collaboration with University of Toronto Libraries\, the Career Centre\, English Language Learning\, and the Academic Success Centre\, are offering this campus-wide series of academic skills workshops to the University’s entire student body. All workshops are free and there is no need to pre-register. Come for one\, or come for all! \nSee the full schedule of workshops.
URL:https://writing.utoronto.ca/event/writing-plus-workshops-essay-writing-from-start-to-finish-10/
LOCATION:Ontario Institute for Studies in Education\, Room 5150\, 252 Bloor Street West\, Toronto\, ON\, M5S 1V6\, Canada
END:VEVENT
END:VCALENDAR