BEGIN:VCALENDAR
VERSION:2.0
PRODID:-//Writing - ECPv6.15.20//NONSGML v1.0//EN
CALSCALE:GREGORIAN
METHOD:PUBLISH
X-WR-CALNAME:Writing
X-ORIGINAL-URL:https://writing.utoronto.ca
X-WR-CALDESC:Events for Writing
REFRESH-INTERVAL;VALUE=DURATION:PT1H
X-Robots-Tag:noindex
X-PUBLISHED-TTL:PT1H
BEGIN:VTIMEZONE
TZID:America/Toronto
BEGIN:DAYLIGHT
TZOFFSETFROM:-0500
TZOFFSETTO:-0400
TZNAME:EDT
DTSTART:20190310T070000
END:DAYLIGHT
BEGIN:STANDARD
TZOFFSETFROM:-0400
TZOFFSETTO:-0500
TZNAME:EST
DTSTART:20191103T060000
END:STANDARD
BEGIN:DAYLIGHT
TZOFFSETFROM:-0500
TZOFFSETTO:-0400
TZNAME:EDT
DTSTART:20200308T070000
END:DAYLIGHT
BEGIN:STANDARD
TZOFFSETFROM:-0400
TZOFFSETTO:-0500
TZNAME:EST
DTSTART:20201101T060000
END:STANDARD
BEGIN:DAYLIGHT
TZOFFSETFROM:-0500
TZOFFSETTO:-0400
TZNAME:EDT
DTSTART:20210314T070000
END:DAYLIGHT
BEGIN:STANDARD
TZOFFSETFROM:-0400
TZOFFSETTO:-0500
TZNAME:EST
DTSTART:20211107T060000
END:STANDARD
END:VTIMEZONE
BEGIN:VEVENT
DTSTART;TZID=America/Toronto:20201003T093000
DTEND;TZID=America/Toronto:20201003T130000
DTSTAMP:20260420T233658
CREATED:20200831T214942Z
LAST-MODIFIED:20200901T002032Z
UID:1964-1601717400-1601730000@writing.utoronto.ca
SUMMARY:Writing Plus Workshops: Essential Skills
DESCRIPTION:9:30 to 10:30 am: Making Your Sentences Flow – Ways to construct sentences so your ideas unfold coherently and clearly \n10:45 to 11:45 am: Writing Well Under Pressure – Learn how to use your time effectively and efficiently to write better assignments and get better marks \n12 to 1 pm: Memory and Concentration – Timetested ways of studying effectively and remembering what you’ve learned \nAll workshops in 2020-21 are online. To attend a workshop\, self-enrol in Writing Plus on Quercus at uoft.me/writingplus. Prior to the starting time\, click on Bb Collaborate to find your workshop. \nThe St. George Campus College Writing Centres\, in collaboration with University of Toronto Libraries\, Career Exploration & Education\, and  Academic Success\, are offering this campus-wide series of academic skills workshops to the University’s entire student body. All workshops are free and there is no need to pre-register. Come for one\, or come for all! \nSee the full schedule of workshops.
URL:https://writing.utoronto.ca/event/writing-plus-workshops-essential-skills-8/
END:VEVENT
BEGIN:VEVENT
DTSTART;TZID=America/Toronto:20201006T161000
DTEND;TZID=America/Toronto:20201006T170000
DTSTAMP:20260420T233658
CREATED:20200831T214355Z
LAST-MODIFIED:20200901T002059Z
UID:1956-1602000600-1602003600@writing.utoronto.ca
SUMMARY:Writing Plus Workshops: Organizing your Essay
DESCRIPTION:Building coherent\, connected arguments using reasoning and evidence \nAll workshops in 2020-21 are online. To attend a workshop\, self-enrol in Writing Plus on Quercus at uoft.me/writingplus. Prior to the starting time\, click on Bb Collaborate to find your workshop. \nThe St. George Campus College Writing Centres\, in collaboration with University of Toronto Libraries\, Career Exploration & Education\, and  Academic Success\, are offering this campus-wide series of academic skills workshops to the University’s entire student body. All workshops are free and there is no need to pre-register. Come for one\, or come for all! \nSee the full schedule of workshops.
URL:https://writing.utoronto.ca/event/writing-plus-workshops-organizing-your-essay-4/
END:VEVENT
BEGIN:VEVENT
DTSTART;TZID=America/Toronto:20201013T161000
DTEND;TZID=America/Toronto:20201013T170000
DTSTAMP:20260420T233658
CREATED:20200831T214533Z
LAST-MODIFIED:20200901T002116Z
UID:1958-1602605400-1602608400@writing.utoronto.ca
SUMMARY:Writing Plus Workshops: Using Sources
DESCRIPTION:Using summary\, quotation\, and paraphrase correctly and effectively \nAll workshops in 2020-21 are online. To attend a workshop\, self-enrol in Writing Plus on Quercus at uoft.me/writingplus. Prior to the starting time\, click on Bb Collaborate to find your workshop. \nThe St. George Campus College Writing Centres\, in collaboration with University of Toronto Libraries\, Career Exploration & Education\, and  Academic Success\, are offering this campus-wide series of academic skills workshops to the University’s entire student body. All workshops are free and there is no need to pre-register. Come for one\, or come for all! \nSee the full schedule of workshops.
URL:https://writing.utoronto.ca/event/writing-plus-workshops-using-sources-4/
END:VEVENT
BEGIN:VEVENT
DTSTART;TZID=America/Toronto:20201016T143000
DTEND;TZID=America/Toronto:20201016T153000
DTSTAMP:20260420T233658
CREATED:20200831T220513Z
LAST-MODIFIED:20200901T014721Z
UID:1985-1602858600-1602862200@writing.utoronto.ca
SUMMARY:Writing Plus Workshops: Admissions Letters and Personal Statements
DESCRIPTION:Applying to Medicine\, Law\, or some other professional or graduate program? Learn to present your strengths to advantage in this 2-hour hands-on workshop \nAll workshops in 2020-21 are online.  Register at clnx.utoronto.ca. \nThe St. George Campus College Writing Centres\, in collaboration with University of Toronto Libraries\, Career Exploration & Education\, and  Academic Success\, are offering this campus-wide series of academic skills workshops to the University’s entire student body. All workshops are free and there is no need to pre-register. Come for one\, or come for all! \nSee the full schedule of workshops.
URL:https://writing.utoronto.ca/event/writing-plus-workshops-admissions-letters-and-personal-statements-17/
END:VEVENT
BEGIN:VEVENT
DTSTART;TZID=America/Toronto:20201017T093000
DTEND;TZID=America/Toronto:20201017T130000
DTSTAMP:20260420T233658
CREATED:20200831T215321Z
LAST-MODIFIED:20200901T002215Z
UID:1970-1602927000-1602939600@writing.utoronto.ca
SUMMARY:Writing Plus Workshops: Practical Grammar
DESCRIPTION:9:30 to 10:30 am: Writing Grammatical Sentences – How to write clearer\, more varied\, and more sophisticated sentences \n10:45 to 11:45 am: Editing for Grammar – How to address common issues such as subject-verb agreement\, verb tense\, and word choice \n12 to 1 pm: Making Punctuation Work for You – Take advantage of commas\, colons\, semicolons\, dashes\, and parentheses \nAll workshops in 2020-21 are online. To attend a workshop\, self-enrol in Writing Plus on Quercus at uoft.me/writingplus. Prior to the starting time\, click on Bb Collaborate to find your workshop. \nThe St. George Campus College Writing Centres\, in collaboration with University of Toronto Libraries\, Career Exploration & Education\, and  Academic Success\, are offering this campus-wide series of academic skills workshops to the University’s entire student body. All workshops are free and there is no need to pre-register. Come for one\, or come for all! \nSee the full schedule of workshops.
URL:https://writing.utoronto.ca/event/writing-plus-workshops-practical-grammar-4/
END:VEVENT
BEGIN:VEVENT
DTSTART;TZID=America/Toronto:20201020T161000
DTEND;TZID=America/Toronto:20201020T170000
DTSTAMP:20260420T233658
CREATED:20200831T214701Z
LAST-MODIFIED:20200901T002625Z
UID:1960-1603210200-1603213200@writing.utoronto.ca
SUMMARY:Writing Plus Workshops: Revising your Essay
DESCRIPTION:Improve your editing and proofreading skills \nAll workshops in 2020-21 are online. To attend a workshop\, self-enrol in Writing Plus on Quercus at uoft.me/writingplus. Prior to the starting time\, click on Bb Collaborate to find your workshop. \nThe St. George Campus College Writing Centres\, in collaboration with University of Toronto Libraries\, Career Exploration & Education\, and  Academic Success\, are offering this campus-wide series of academic skills workshops to the University’s entire student body. All workshops are free and there is no need to pre-register. Come for one\, or come for all! \nSee the full schedule of workshops.
URL:https://writing.utoronto.ca/event/writing-plus-workshops-revising-your-essay-4/
END:VEVENT
END:VCALENDAR