BEGIN:VCALENDAR
VERSION:2.0
PRODID:-//Writing - ECPv6.15.20//NONSGML v1.0//EN
CALSCALE:GREGORIAN
METHOD:PUBLISH
X-WR-CALNAME:Writing
X-ORIGINAL-URL:https://writing.utoronto.ca
X-WR-CALDESC:Events for Writing
REFRESH-INTERVAL;VALUE=DURATION:PT1H
X-Robots-Tag:noindex
X-PUBLISHED-TTL:PT1H
BEGIN:VTIMEZONE
TZID:America/Toronto
BEGIN:DAYLIGHT
TZOFFSETFROM:-0500
TZOFFSETTO:-0400
TZNAME:EDT
DTSTART:20210314T070000
END:DAYLIGHT
BEGIN:STANDARD
TZOFFSETFROM:-0400
TZOFFSETTO:-0500
TZNAME:EST
DTSTART:20211107T060000
END:STANDARD
BEGIN:DAYLIGHT
TZOFFSETFROM:-0500
TZOFFSETTO:-0400
TZNAME:EDT
DTSTART:20220313T070000
END:DAYLIGHT
BEGIN:STANDARD
TZOFFSETFROM:-0400
TZOFFSETTO:-0500
TZNAME:EST
DTSTART:20221106T060000
END:STANDARD
BEGIN:DAYLIGHT
TZOFFSETFROM:-0500
TZOFFSETTO:-0400
TZNAME:EDT
DTSTART:20230312T070000
END:DAYLIGHT
BEGIN:STANDARD
TZOFFSETFROM:-0400
TZOFFSETTO:-0500
TZNAME:EST
DTSTART:20231105T060000
END:STANDARD
END:VTIMEZONE
BEGIN:VEVENT
DTSTART;TZID=America/Toronto:20221001T093000
DTEND;TZID=America/Toronto:20221001T130000
DTSTAMP:20260420T091628
CREATED:20220816T220914Z
LAST-MODIFIED:20220816T220914Z
UID:2554-1664616600-1664629200@writing.utoronto.ca
SUMMARY:Writing Plus Workshops: Essential Skills
DESCRIPTION:9:30 to 10:30 am: Making Your Sentences Flow – Ways to construct sentences so your ideas unfold coherently and clearly \n10:45 to 11:45 am: Writing Well Under Pressure – Learn how to use your time effectively and efficiently to write better assignments and get better marks \n12 to 1 pm: Memory and Concentration – Timetested ways of studying effectively and remembering what you’ve learned \nAll workshops this year will be offered through Zoom. To attend a workshop\, self-enrol in Writing Plus on Quercus at uoft.me/writingplus. Prior to the starting time\, navigate to the workshop on the schedule. \nThe St. George Campus College Writing Centres\, in collaboration with University of Toronto Libraries\, Career Exploration & Education\, and  Academic Success\, are offering this campus-wide series of academic skills workshops to the University’s entire student body. All workshops are free and there is no need to pre-register. Come for one\, or come for all! \nSee the full schedule of workshops.
URL:https://writing.utoronto.ca/event/writing-plus-workshops-essential-skills-12/
END:VEVENT
BEGIN:VEVENT
DTSTART;TZID=America/Toronto:20221004T161000
DTEND;TZID=America/Toronto:20221004T170000
DTSTAMP:20260420T091628
CREATED:20220816T215832Z
LAST-MODIFIED:20220816T215832Z
UID:2542-1664899800-1664902800@writing.utoronto.ca
SUMMARY:Writing Plus Workshops: Organizing your Essay
DESCRIPTION:Time: 4:10 to 5 pm \nBuilding coherent\, connected arguments using reasoning and evidence \nAll workshops this year will be offered through Zoom. To attend a workshop\, self-enrol in Writing Plus on Quercus at uoft.me/writingplus. Prior to the starting time\, navigate to the workshop on the schedule. \nThe St. George Campus College Writing Centres\, in collaboration with University of Toronto Libraries\, Career Exploration & Education\, and  Academic Success\, are offering this campus-wide series of academic skills workshops to the University’s entire student body. All workshops are free and there is no need to pre-register. Come for one\, or come for all! \nSee the full schedule of workshops.
URL:https://writing.utoronto.ca/event/writing-plus-workshops-organizing-your-essay-6/
END:VEVENT
BEGIN:VEVENT
DTSTART;TZID=America/Toronto:20221006T131000
DTEND;TZID=America/Toronto:20221006T143000
DTSTAMP:20260420T091628
CREATED:20220816T221737Z
LAST-MODIFIED:20220816T221737Z
UID:2570-1665061800-1665066600@writing.utoronto.ca
SUMMARY:Writing Plus Workshops: Admissions Letters and Personal Statements
DESCRIPTION:Time: 1:10 to 2:30 pm \nApplying to Medicine\, Law\, or some other professional or graduate program? Learn to present your strengths to advantage in this 2-hour hands-on workshop \nAll workshops this year will be offered through Zoom. Register for Admissions Letters workshops at clnx.utoronto.ca. \nThe St. George Campus College Writing Centres\, in collaboration with University of Toronto Libraries\, Career Exploration & Education\, and  Academic Success\, are offering this campus-wide series of academic skills workshops to the University’s entire student body. All workshops are free and there is no need to pre-register. Come for one\, or come for all! \nSee the full schedule of workshops.
URL:https://writing.utoronto.ca/event/writing-plus-workshops-admissions-letters-and-personal-statements-27/
END:VEVENT
BEGIN:VEVENT
DTSTART;TZID=America/Toronto:20221011T161000
DTEND;TZID=America/Toronto:20221011T170000
DTSTAMP:20260420T091628
CREATED:20220816T215943Z
LAST-MODIFIED:20220816T215943Z
UID:2544-1665504600-1665507600@writing.utoronto.ca
SUMMARY:Writing Plus Workshops: Using Sources
DESCRIPTION:Time: 4:10 to 5 pm \nUsing summary\, quotation\, and paraphrase correctly and effectively \nAll workshops this year will be offered through Zoom. To attend a workshop\, self-enrol in Writing Plus on Quercus at uoft.me/writingplus. Prior to the starting time\, navigate to the workshop on the schedule. \nThe St. George Campus College Writing Centres\, in collaboration with University of Toronto Libraries\, Career Exploration & Education\, and  Academic Success\, are offering this campus-wide series of academic skills workshops to the University’s entire student body. All workshops are free and there is no need to pre-register. Come for one\, or come for all! \nSee the full schedule of workshops.
URL:https://writing.utoronto.ca/event/writing-plus-workshops-using-sources-6/
END:VEVENT
BEGIN:VEVENT
DTSTART;TZID=America/Toronto:20221015T093000
DTEND;TZID=America/Toronto:20221015T130000
DTSTAMP:20260420T091628
CREATED:20220816T221017Z
LAST-MODIFIED:20220816T221017Z
UID:2556-1665826200-1665838800@writing.utoronto.ca
SUMMARY:Writing Plus Workshops: Practical Grammar
DESCRIPTION:9:30 to 10:30 am: Writing Grammatical Sentences – How to write clearer\, more varied\, and more sophisticated sentences \n10:45 to 11:45 am: Editing for Grammar – How to address common issues such as subject-verb agreement\, verb tense\, and word choice \n12 to 1 pm: Making Punctuation Work for You – Take advantage of commas\, colons\, semicolons\, dashes\, and parentheses \nAll workshops this year will be offered through Zoom. To attend a workshop\, self-enrol in Writing Plus on Quercus at uoft.me/writingplus. Prior to the starting time\, navigate to the workshop on the schedule. \nThe St. George Campus College Writing Centres\, in collaboration with University of Toronto Libraries\, Career Exploration & Education\, and  Academic Success\, are offering this campus-wide series of academic skills workshops to the University’s entire student body. All workshops are free and there is no need to pre-register. Come for one\, or come for all! \nSee the full schedule of workshops.
URL:https://writing.utoronto.ca/event/writing-plus-workshops-practical-grammar-6/
END:VEVENT
BEGIN:VEVENT
DTSTART;TZID=America/Toronto:20221018T161000
DTEND;TZID=America/Toronto:20221018T170000
DTSTAMP:20260420T091628
CREATED:20220816T220037Z
LAST-MODIFIED:20220816T220037Z
UID:2546-1666109400-1666112400@writing.utoronto.ca
SUMMARY:Writing Plus Workshops: Revising your Essay
DESCRIPTION:Time: 4:10 to 5 pm \nImprove your editing and proofreading skills \nAll workshops this year will be offered through Zoom. To attend a workshop\, self-enrol in Writing Plus on Quercus at uoft.me/writingplus. Prior to the starting time\, navigate to the workshop on the schedule. \nThe St. George Campus College Writing Centres\, in collaboration with University of Toronto Libraries\, Career Exploration & Education\, and  Academic Success\, are offering this campus-wide series of academic skills workshops to the University’s entire student body. All workshops are free and there is no need to pre-register. Come for one\, or come for all! \nSee the full schedule of workshops.
URL:https://writing.utoronto.ca/event/writing-plus-workshops-revising-your-essay-6/
END:VEVENT
BEGIN:VEVENT
DTSTART;TZID=America/Toronto:20221025T151000
DTEND;TZID=America/Toronto:20221025T163000
DTSTAMP:20260420T091628
CREATED:20220816T221828Z
LAST-MODIFIED:20220816T221828Z
UID:2572-1666710600-1666715400@writing.utoronto.ca
SUMMARY:Writing Plus Workshops: Admissions Letters and Personal Statements
DESCRIPTION:Time: 3:10 to 4:30 pm \nApplying to Medicine\, Law\, or some other professional or graduate program? Learn to present your strengths to advantage in this 2-hour hands-on workshop \nAll workshops this year will be offered through Zoom. Register for Admissions Letters workshops at clnx.utoronto.ca. \nThe St. George Campus College Writing Centres\, in collaboration with University of Toronto Libraries\, Career Exploration & Education\, and  Academic Success\, are offering this campus-wide series of academic skills workshops to the University’s entire student body. All workshops are free and there is no need to pre-register. Come for one\, or come for all! \nSee the full schedule of workshops.
URL:https://writing.utoronto.ca/event/writing-plus-workshops-admissions-letters-and-personal-statements-28/
END:VEVENT
END:VCALENDAR