BEGIN:VCALENDAR
VERSION:2.0
PRODID:-//Writing - ECPv6.15.20//NONSGML v1.0//EN
CALSCALE:GREGORIAN
METHOD:PUBLISH
X-ORIGINAL-URL:https://writing.utoronto.ca
X-WR-CALDESC:Events for Writing
REFRESH-INTERVAL;VALUE=DURATION:PT1H
X-Robots-Tag:noindex
X-PUBLISHED-TTL:PT1H
BEGIN:VTIMEZONE
TZID:America/Toronto
BEGIN:DAYLIGHT
TZOFFSETFROM:-0500
TZOFFSETTO:-0400
TZNAME:EDT
DTSTART:20210314T070000
END:DAYLIGHT
BEGIN:STANDARD
TZOFFSETFROM:-0400
TZOFFSETTO:-0500
TZNAME:EST
DTSTART:20211107T060000
END:STANDARD
BEGIN:DAYLIGHT
TZOFFSETFROM:-0500
TZOFFSETTO:-0400
TZNAME:EDT
DTSTART:20220313T070000
END:DAYLIGHT
BEGIN:STANDARD
TZOFFSETFROM:-0400
TZOFFSETTO:-0500
TZNAME:EST
DTSTART:20221106T060000
END:STANDARD
BEGIN:DAYLIGHT
TZOFFSETFROM:-0500
TZOFFSETTO:-0400
TZNAME:EDT
DTSTART:20230312T070000
END:DAYLIGHT
BEGIN:STANDARD
TZOFFSETFROM:-0400
TZOFFSETTO:-0500
TZNAME:EST
DTSTART:20231105T060000
END:STANDARD
END:VTIMEZONE
BEGIN:VEVENT
DTSTART;TZID=America/Toronto:20221110T141000
DTEND;TZID=America/Toronto:20221110T153000
DTSTAMP:20260422T144348
CREATED:20220816T221920Z
LAST-MODIFIED:20220816T221920Z
UID:2574-1668089400-1668094200@writing.utoronto.ca
SUMMARY:Writing Plus Workshops: Admissions Letters and Personal Statements
DESCRIPTION:Time: 2:10 to 3:30 pm \nApplying to Medicine\, Law\, or some other professional or graduate program? Learn to present your strengths to advantage in this 2-hour hands-on workshop \nAll workshops this year will be offered through Zoom. Register for Admissions Letters workshops at clnx.utoronto.ca. \nThe St. George Campus College Writing Centres\, in collaboration with University of Toronto Libraries\, Career Exploration & Education\, and  Academic Success\, are offering this campus-wide series of academic skills workshops to the University’s entire student body. All workshops are free and there is no need to pre-register. Come for one\, or come for all! \nSee the full schedule of workshops.
URL:https://writing.utoronto.ca/event/writing-plus-workshops-admissions-letters-and-personal-statements-29/
END:VEVENT
BEGIN:VEVENT
DTSTART;TZID=America/Toronto:20221115T161000
DTEND;TZID=America/Toronto:20221115T170000
DTSTAMP:20260422T144348
CREATED:20220816T221136Z
LAST-MODIFIED:20220816T221136Z
UID:2558-1668528600-1668531600@writing.utoronto.ca
SUMMARY:Writing Plus Workshops: Preparing for Multiple Choice Exams
DESCRIPTION:Time: 4:10 to 5 pm \nUnderstanding multiple-choice questions\, preparing for and managing the exam \nAll workshops this year will be offered through Zoom. To attend a workshop\, self-enrol in Writing Plus on Quercus at uoft.me/writingplus. Prior to the starting time\, navigate to the workshop on the schedule. \nThe St. George Campus College Writing Centres\, in collaboration with University of Toronto Libraries\, Career Exploration & Education\, and  Academic Success\, are offering this campus-wide series of academic skills workshops to the University’s entire student body. All workshops are free and there is no need to pre-register. Come for one\, or come for all! \nSee the full schedule of workshops.
URL:https://writing.utoronto.ca/event/writing-plus-workshops-preparing-for-multiple-choice-exams-4/
END:VEVENT
BEGIN:VEVENT
DTSTART;TZID=America/Toronto:20221122T161000
DTEND;TZID=America/Toronto:20221122T170000
DTSTAMP:20260422T144348
CREATED:20220816T221224Z
LAST-MODIFIED:20220816T221224Z
UID:2560-1669133400-1669136400@writing.utoronto.ca
SUMMARY:Writing Plus Workshops: Preparing for Essay Exams
DESCRIPTION:Time: 4:10 to 5 pm \nTechniques for making the most of your knowledge when writing under pressure \nAll workshops this year will be offered through Zoom. To attend a workshop\, self-enrol in Writing Plus on Quercus at uoft.me/writingplus. Prior to the starting time\, navigate to the workshop on the schedule. \nThe St. George Campus College Writing Centres\, in collaboration with University of Toronto Libraries\, Career Exploration & Education\, and  Academic Success\, are offering this campus-wide series of academic skills workshops to the University’s entire student body. All workshops are free and there is no need to pre-register. Come for one\, or come for all! \nSee the full schedule of workshops.
URL:https://writing.utoronto.ca/event/writing-plus-workshops-preparing-for-essay-exams-4/
END:VEVENT
BEGIN:VEVENT
DTSTART;TZID=America/Toronto:20221129T161000
DTEND;TZID=America/Toronto:20221129T170000
DTSTAMP:20260422T144348
CREATED:20220816T221319Z
LAST-MODIFIED:20220816T221319Z
UID:2562-1669738200-1669741200@writing.utoronto.ca
SUMMARY:Writing Plus Workshops: Managing Stress
DESCRIPTION:Time: 4:10 to 5 pm \nLearn strategies that will help you turn stress to your advantage and boost your performance \nAll workshops this year will be offered through Zoom. To attend a workshop\, self-enrol in Writing Plus on Quercus at uoft.me/writingplus. Prior to the starting time\, navigate to the workshop on the schedule. \nThe St. George Campus College Writing Centres\, in collaboration with University of Toronto Libraries\, Career Exploration & Education\, and  Academic Success\, are offering this campus-wide series of academic skills workshops to the University’s entire student body. All workshops are free and there is no need to pre-register. Come for one\, or come for all! \nSee the full schedule of workshops.
URL:https://writing.utoronto.ca/event/writing-plus-workshops-managing-stress-2/
END:VEVENT
END:VCALENDAR