BEGIN:VCALENDAR
VERSION:2.0
PRODID:-//Writing - ECPv6.15.20//NONSGML v1.0//EN
CALSCALE:GREGORIAN
METHOD:PUBLISH
X-WR-CALNAME:Writing
X-ORIGINAL-URL:https://writing.utoronto.ca
X-WR-CALDESC:Events for Writing
REFRESH-INTERVAL;VALUE=DURATION:PT1H
X-Robots-Tag:noindex
X-PUBLISHED-TTL:PT1H
BEGIN:VTIMEZONE
TZID:America/Toronto
BEGIN:DAYLIGHT
TZOFFSETFROM:-0500
TZOFFSETTO:-0400
TZNAME:EDT
DTSTART:20220313T070000
END:DAYLIGHT
BEGIN:STANDARD
TZOFFSETFROM:-0400
TZOFFSETTO:-0500
TZNAME:EST
DTSTART:20221106T060000
END:STANDARD
BEGIN:DAYLIGHT
TZOFFSETFROM:-0500
TZOFFSETTO:-0400
TZNAME:EDT
DTSTART:20230312T070000
END:DAYLIGHT
BEGIN:STANDARD
TZOFFSETFROM:-0400
TZOFFSETTO:-0500
TZNAME:EST
DTSTART:20231105T060000
END:STANDARD
BEGIN:DAYLIGHT
TZOFFSETFROM:-0500
TZOFFSETTO:-0400
TZNAME:EDT
DTSTART:20240310T070000
END:DAYLIGHT
BEGIN:STANDARD
TZOFFSETFROM:-0400
TZOFFSETTO:-0500
TZNAME:EST
DTSTART:20241103T060000
END:STANDARD
END:VTIMEZONE
BEGIN:VEVENT
DTSTART;TZID=America/Toronto:20230909T093000
DTEND;TZID=America/Toronto:20230909T130000
DTSTAMP:20260421T025207
CREATED:20230907T015218Z
LAST-MODIFIED:20230907T015218Z
UID:2882-1694251800-1694264400@writing.utoronto.ca
SUMMARY:Writing Plus Workshops: Essential Skills
DESCRIPTION:Location: Zoom \n9:30 to 10:30 am: Survival Skills – Resources and strategies for making the most of your U of T experience \n10:45 to 11:45 am: Critical Reading and Thinking – How to get the most out of your textbooks and research sources \n12 to 1 pm: Note-Taking – Tips on taking notes: recording a lecture’s important points without overloading your page \nJoin a workshop from our online schedule just prior to the starting time. \nThe St. George Campus College Writing Centres\, in collaboration with University of Toronto Libraries\, Career Exploration & Education\, and  Academic Success\, are offering this campus-wide series of academic skills workshops to the University’s entire student body. All workshops are free and there is no need to pre-register. Come for one\, or come for all! \nSee the full schedule of workshops.
URL:https://writing.utoronto.ca/event/writing-plus-workshops-essential-skills-13/
END:VEVENT
BEGIN:VEVENT
DTSTART;TZID=America/Toronto:20230912T161000
DTEND;TZID=America/Toronto:20230912T170000
DTSTAMP:20260421T025207
CREATED:20230907T013207Z
LAST-MODIFIED:20230907T013207Z
UID:2861-1694535000-1694538000@writing.utoronto.ca
SUMMARY:Writing Plus Workshops: Understanding the Assignment
DESCRIPTION:Time: 4:10 to 5 pm \nLocation: University College\, Room 248 \nMaking sense of essay topics – getting on the right track from the start \nAll workshops in this series are in-person.There is no need to pre-register. Just show up at UC 248. \nThe St. George Campus College Writing Centres\, in collaboration with University of Toronto Libraries\, Career Exploration & Education\, and  Academic Success\, are offering this campus-wide series of academic skills workshops to the University’s entire student body. All workshops are free and there is no need to pre-register. Come for one\, or come for all! \nSee the full schedule of workshops.
URL:https://writing.utoronto.ca/event/writing-plus-workshops-understanding-the-assignment-7/
LOCATION:University College\, Room 248\, 15 King's College Circle\, Toronto\, M5S 3H7\, Canada
END:VEVENT
BEGIN:VEVENT
DTSTART;TZID=America/Toronto:20230916T093000
DTEND;TZID=America/Toronto:20230916T130000
DTSTAMP:20260421T025207
CREATED:20230907T014658Z
LAST-MODIFIED:20230907T014658Z
UID:2877-1694856600-1694869200@writing.utoronto.ca
SUMMARY:Writing Plus Workshops: Essay Writing from Start to Finish
DESCRIPTION:Location: Zoom \n9:30 to 10:30 am: Understanding the Assignment – Making sense of essay topics – getting on the right track from the start \n10:45 to 11:45 am: Finding Scholarly Sources – Strategies for finding and identifying the most useful research sources  \n12 to 1 pm: Developing your Thesis – How to write clear\, focused\, forceful thesis statements (and how not to!) \nJoin a workshop from our online schedule just prior to the starting time. \nThe St. George Campus College Writing Centres\, in collaboration with University of Toronto Libraries\, Career Exploration & Education\, and  Academic Success\, are offering this campus-wide series of academic skills workshops to the University’s entire student body. All workshops are free and there is no need to pre-register. Come for one\, or come for all! \nSee the full schedule of workshops.
URL:https://writing.utoronto.ca/event/writing-plus-workshops-essay-writing-from-start-to-finish-27/
END:VEVENT
BEGIN:VEVENT
DTSTART;TZID=America/Toronto:20230919T161000
DTEND;TZID=America/Toronto:20230919T170000
DTSTAMP:20260421T025207
CREATED:20230907T013500Z
LAST-MODIFIED:20230907T013500Z
UID:2866-1695139800-1695142800@writing.utoronto.ca
SUMMARY:Writing Plus Workshops: Finding Scholarly Sources
DESCRIPTION:Time: 4:10 to 5 pm \nLocation: University College\, Room 248 \nStrategies for finding and identifying the most useful research sources  \nAll workshops in this series are in-person.There is no need to pre-register. Just show up at UC 248. \nThe St. George Campus College Writing Centres\, in collaboration with University of Toronto Libraries\, Career Exploration & Education\, and  Academic Success\, are offering this campus-wide series of academic skills workshops to the University’s entire student body. All workshops are free and there is no need to pre-register. Come for one\, or come for all! \nSee the full schedule of workshops.
URL:https://writing.utoronto.ca/event/writing-plus-workshops-finding-scholarly-sources-7/
LOCATION:University College\, Room 248\, 15 King's College Circle\, Toronto\, M5S 3H7\, Canada
END:VEVENT
BEGIN:VEVENT
DTSTART;TZID=America/Toronto:20230921T151000
DTEND;TZID=America/Toronto:20230921T163000
DTSTAMP:20260421T025207
CREATED:20230907T020717Z
LAST-MODIFIED:20230907T020730Z
UID:2898-1695309000-1695313800@writing.utoronto.ca
SUMMARY:Writing Plus Workshops: Admissions Letters and Personal Statements
DESCRIPTION:Time: 3:10 to 4:30 pm \nLocation: Zoom \nApplying to Medicine\, Law\, or some other professional or graduate program? Learn to present your strengths to advantage in this 2-hour hands-on workshop \nRegister online at clnx.utoronto.ca \nThe St. George Campus College Writing Centres\, in collaboration with University of Toronto Libraries\, Career Exploration & Education\, and  Academic Success\, are offering this campus-wide series of academic skills workshops to the University’s entire student body. All workshops are free and there is no need to pre-register. Come for one\, or come for all! \nSee the full schedule of workshops.
URL:https://writing.utoronto.ca/event/writing-plus-workshops-admissions-letters-and-personal-statements-32/
END:VEVENT
BEGIN:VEVENT
DTSTART;TZID=America/Toronto:20230923T093000
DTEND;TZID=America/Toronto:20230923T130000
DTSTAMP:20260421T025207
CREATED:20230907T015016Z
LAST-MODIFIED:20230922T004218Z
UID:2880-1695461400-1695474000@writing.utoronto.ca
SUMMARY:Writing Plus Workshops: Essay Writing from Start to Finish
DESCRIPTION:Location: Zoom \n9:30 to 10:30 am: Organizing your Essay – Building coherent\, connected arguments using reasoning and evidence \n10:45 to 11:45 am: Using Sources – Using summary\, quotation\, and paraphrase correctly and effectively \n12 to 1 pm: Revising your Essay – Improve your editing and proofreading skills \nJoin a workshop just prior to the start time on Quercus at uoft.me/writingplus. \nThe St. George Campus College Writing Centres\, in collaboration with University of Toronto Libraries\, Career Exploration & Education\, and  Academic Success\, are offering this campus-wide series of academic skills workshops to the University’s entire student body. All workshops are free and there is no need to pre-register. Come for one\, or come for all! \nSee the full schedule of workshops.
URL:https://writing.utoronto.ca/event/writing-plus-workshops-essay-writing-from-start-to-finish-28/
END:VEVENT
BEGIN:VEVENT
DTSTART;TZID=America/Toronto:20230926T161000
DTEND;TZID=America/Toronto:20230926T170000
DTSTAMP:20260421T025207
CREATED:20230907T014128Z
LAST-MODIFIED:20230907T014128Z
UID:2869-1695744600-1695747600@writing.utoronto.ca
SUMMARY:Writing Plus Workshops: Developing your Thesis
DESCRIPTION:Time: 4:10 to 5 pm \nLocation: University College\, Room 248 \nHow to write clear\, focused\, forceful thesis statements (and how not to!) \nAll workshops in this series are in-person.There is no need to pre-register. Just show up at UC 248. \nThe St. George Campus College Writing Centres\, in collaboration with University of Toronto Libraries\, Career Exploration & Education\, and  Academic Success\, are offering this campus-wide series of academic skills workshops to the University’s entire student body. All workshops are free and there is no need to pre-register. Come for one\, or come for all! \nSee the full schedule of workshops.
URL:https://writing.utoronto.ca/event/writing-plus-workshops-developing-your-thesis-7/
LOCATION:University College\, Room 248\, 15 King's College Circle\, Toronto\, M5S 3H7\, Canada
END:VEVENT
BEGIN:VEVENT
DTSTART;TZID=America/Toronto:20230930T093000
DTEND;TZID=America/Toronto:20230930T130000
DTSTAMP:20260421T025207
CREATED:20230907T015347Z
LAST-MODIFIED:20230922T004322Z
UID:2884-1696066200-1696078800@writing.utoronto.ca
SUMMARY:Writing Plus Workshops: Essential Skills
DESCRIPTION:Location: Zoom \n9:30 to 10:30 am: Making Your Sentences Flow – Ways to construct sentences so your ideas unfold coherently and clearly \n10:45 to 11:45 am: Writing Well Under Pressure – Learn how to use your time effectively and efficiently to write better assignments and get better marks \n12 to 1 pm: Memory and Concentration – Timetested ways of studying effectively and remembering what you’ve learned \nJoin a workshop just prior to the start time on Quercus at uoft.me/writingplus. \nThe St. George Campus College Writing Centres\, in collaboration with University of Toronto Libraries\, Career Exploration & Education\, and  Academic Success\, are offering this campus-wide series of academic skills workshops to the University’s entire student body. All workshops are free and there is no need to pre-register. Come for one\, or come for all! \nSee the full schedule of workshops.
URL:https://writing.utoronto.ca/event/writing-plus-workshops-essential-skills-14/
END:VEVENT
END:VCALENDAR