BEGIN:VCALENDAR
VERSION:2.0
PRODID:-//Writing - ECPv6.15.20//NONSGML v1.0//EN
CALSCALE:GREGORIAN
METHOD:PUBLISH
X-WR-CALNAME:Writing
X-ORIGINAL-URL:https://writing.utoronto.ca
X-WR-CALDESC:Events for Writing
REFRESH-INTERVAL;VALUE=DURATION:PT1H
X-Robots-Tag:noindex
X-PUBLISHED-TTL:PT1H
BEGIN:VTIMEZONE
TZID:America/Toronto
BEGIN:DAYLIGHT
TZOFFSETFROM:-0500
TZOFFSETTO:-0400
TZNAME:EDT
DTSTART:20230312T070000
END:DAYLIGHT
BEGIN:STANDARD
TZOFFSETFROM:-0400
TZOFFSETTO:-0500
TZNAME:EST
DTSTART:20231105T060000
END:STANDARD
BEGIN:DAYLIGHT
TZOFFSETFROM:-0500
TZOFFSETTO:-0400
TZNAME:EDT
DTSTART:20240310T070000
END:DAYLIGHT
BEGIN:STANDARD
TZOFFSETFROM:-0400
TZOFFSETTO:-0500
TZNAME:EST
DTSTART:20241103T060000
END:STANDARD
BEGIN:DAYLIGHT
TZOFFSETFROM:-0500
TZOFFSETTO:-0400
TZNAME:EDT
DTSTART:20250309T070000
END:DAYLIGHT
BEGIN:STANDARD
TZOFFSETFROM:-0400
TZOFFSETTO:-0500
TZNAME:EST
DTSTART:20251102T060000
END:STANDARD
END:VTIMEZONE
BEGIN:VEVENT
DTSTART;TZID=America/Toronto:20240106T093000
DTEND;TZID=America/Toronto:20240106T130000
DTSTAMP:20260420T163151
CREATED:20230907T020339Z
LAST-MODIFIED:20230922T004755Z
UID:2894-1704533400-1704546000@writing.utoronto.ca
SUMMARY:Writing Plus Workshops: Essay Writing from Start to Finish
DESCRIPTION:Location: Zoom \n9:30 to 10:30 am: Understanding the Assignment – Making sense of essay topics – getting on the right track from the start \n10:45 to 11:45 am: Finding Scholarly Sources – Strategies for finding and identifying the most useful research sources  \n12 to 1 pm: Developing your Thesis – How to write clear\, focused\, forceful thesis statements (and how not to!) \nJoin a workshop just prior to the start time on Quercus at uoft.me/writingplus. \nThe St. George Campus College Writing Centres\, in collaboration with University of Toronto Libraries\, Career Exploration & Education\, and  Academic Success\, are offering this campus-wide series of academic skills workshops to the University’s entire student body. All workshops are free and there is no need to pre-register. Come for one\, or come for all! \nSee the full schedule of workshops.
URL:https://writing.utoronto.ca/event/writing-plus-workshops-essay-writing-from-start-to-finish-29/
END:VEVENT
BEGIN:VEVENT
DTSTART;TZID=America/Toronto:20240111T131000
DTEND;TZID=America/Toronto:20240111T143000
DTSTAMP:20260420T163151
CREATED:20230907T021517Z
LAST-MODIFIED:20230907T021517Z
UID:2906-1704978600-1704983400@writing.utoronto.ca
SUMMARY:Writing Plus Workshops: Admissions Letters and Personal Statements
DESCRIPTION:Time: 1:10 to 2:30 pm \nLocation: Zoom \nApplying to Medicine\, Law\, or some other professional or graduate program? Learn to present your strengths to advantage in this 2-hour hands-on workshop \nRegister online at clnx.utoronto.ca \nThe St. George Campus College Writing Centres\, in collaboration with University of Toronto Libraries\, Career Exploration & Education\, and  Academic Success\, are offering this campus-wide series of academic skills workshops to the University’s entire student body. All workshops are free and there is no need to pre-register. Come for one\, or come for all! \nSee the full schedule of workshops.
URL:https://writing.utoronto.ca/event/writing-plus-workshops-admissions-letters-and-personal-statements-36/
END:VEVENT
BEGIN:VEVENT
DTSTART;TZID=America/Toronto:20240113T093000
DTEND;TZID=America/Toronto:20240113T130000
DTSTAMP:20260420T163151
CREATED:20230907T020502Z
LAST-MODIFIED:20230922T004849Z
UID:2896-1705138200-1705150800@writing.utoronto.ca
SUMMARY:Writing Plus Workshops: Essay Writing from Start to Finish
DESCRIPTION:Location: Zoom \n9:30 to 10:30 am: Organizing your Essay – Building coherent\, connected arguments using reasoning and evidence \n10:45 to 11:45 am: Using Sources – Using summary\, quotation\, and paraphrase correctly and effectively \n12 to 1 pm: Revising your Essay – Improve your editing and proofreading skills \nJoin a workshop just prior to the start time on Quercus at uoft.me/writingplus. \nThe St. George Campus College Writing Centres\, in collaboration with University of Toronto Libraries\, Career Exploration & Education\, and  Academic Success\, are offering this campus-wide series of academic skills workshops to the University’s entire student body. All workshops are free and there is no need to pre-register. Come for one\, or come for all! \nSee the full schedule of workshops.
URL:https://writing.utoronto.ca/event/writing-plus-workshops-essay-writing-from-start-to-finish-30/
END:VEVENT
END:VCALENDAR